BEGIN:VCALENDAR
VERSION:2.0
PRODID:-//Washington Contract Firefighters Association - ECPv4.8.1//NONSGML v1.0//EN
CALSCALE:GREGORIAN
METHOD:PUBLISH
X-WR-CALNAME:Washington Contract Firefighters Association
X-ORIGINAL-URL:https://www.wcfafirefighters.org
X-WR-CALDESC:Events for Washington Contract Firefighters Association
BEGIN:VEVENT
DTSTART;TZID=America/Los_Angeles:20190413T080000
DTEND;TZID=America/Los_Angeles:20190413T130000
DTSTAMP:20260421T230841
CREATED:20190201T014316Z
LAST-MODIFIED:20200101T070101Z
UID:90805-1555142400-1555160400@www.wcfafirefighters.org
SUMMARY:RT-130 Annual Refresher Okanogan PUD\, 1331 2nd Ave N.\,Okanogan\, WA.
DESCRIPTION:Annual Fireline Safety RefresherSign up for class!Location: Okanogan PUD\, 1331 2nd Ave N.\,Okanogan\, WA.Click here to pay for classesInstructor: Charlie CurtisContact Name : Danielle SimsContact Phone : 425-239-6613Contact Email : dsimswcfa@yahoo.com \n
URL:https://www.wcfafirefighters.org/event/RT-130-Annual-Refresher-847-1/
CATEGORIES:Training
END:VEVENT
END:VCALENDAR