BEGIN:VCALENDAR
VERSION:2.0
PRODID:-//Washington Contract Firefighters Association - ECPv4.8.1//NONSGML v1.0//EN
CALSCALE:GREGORIAN
METHOD:PUBLISH
X-WR-CALNAME:Washington Contract Firefighters Association
X-ORIGINAL-URL:https://www.wcfafirefighters.org
X-WR-CALDESC:Events for Washington Contract Firefighters Association
BEGIN:VEVENT
DTSTART;TZID=America/Los_Angeles:20190525T080000
DTEND;TZID=America/Los_Angeles:20190525T130000
DTSTAMP:20260422T022348
CREATED:20190201T014317Z
LAST-MODIFIED:20200101T070101Z
UID:90811-1558771200-1558789200@www.wcfafirefighters.org
SUMMARY:RT-130 Annual Refresher Comm Cov Church\, 710 N Methow Valley Hwy\, Twisp
DESCRIPTION:Annual Fireline Safety Refresher. **SHELTER DEPLOYMENT IS REQUIRED TO PASS THIS CLASS** Core course requirements. Entrapment Avoidance\, Current Issues\, Fire Shelter Deployment\, Other Hazards and Safety Issues.Sign up for class!Location: Comm Cov Church\, 710 N Methow Valley Hwy\, TwispClick here to pay for classesInstructor: Charlie CurtisContact Name : Danielle SimsContact Phone : 425-239-6613Contact Email : dsimswcfa@yahoo.com \n
URL:https://www.wcfafirefighters.org/event/RT-130-Annual-Refresher-851-1/
CATEGORIES:Training
END:VEVENT
END:VCALENDAR