BEGIN:VCALENDAR
VERSION:2.0
PRODID:-//Washington Contract Firefighters Association - ECPv4.8.1//NONSGML v1.0//EN
CALSCALE:GREGORIAN
METHOD:PUBLISH
X-WR-CALNAME:Washington Contract Firefighters Association
X-ORIGINAL-URL:https://www.wcfafirefighters.org
X-WR-CALDESC:Events for Washington Contract Firefighters Association
BEGIN:VEVENT
DTSTART;TZID=America/Los_Angeles:20190427T080000
DTEND;TZID=America/Los_Angeles:20190427T130000
DTSTAMP:20260422T022225
CREATED:20190201T014317Z
LAST-MODIFIED:20200101T070102Z
UID:90821-1556352000-1556370000@www.wcfafirefighters.org
SUMMARY:RT-130 Annual Refresher Rains Trout Farm\, 122 Hunter Mt. Rd.\,  Pateros\, WA
DESCRIPTION:Annual Fireline Safety Refresher.   Location is 1.5 miles up Hunter Mountain Road (Formerly Squaw Creek Rd).- 1st driveway to the right. If you are going up Hwy 153 from Pateros\, we are 7 miles up and take a left on Hunter Mtn. Rd\, (formerly Squaw Creek) \, if they are coming down Hwy 153\, it is approx. 2 miles past the town of Methow and you take a right. Includes light snacks and beverages.Sign up for class!Location: Rains Trout Farm\, 122 Hunter Mt. Rd.\,  Pateros\, WAClick here to pay for classesInstructor: Dave RainsContact Name : Danielle SimsContact Phone : 425-239-6613Contact Email : dsimswcfa@yahoo.com \n
URL:https://www.wcfafirefighters.org/event/RT-130-Annual-Refresher-862-1/
CATEGORIES:Training
END:VEVENT
END:VCALENDAR