BEGIN:VCALENDAR
VERSION:2.0
PRODID:-//Washington Contract Firefighters Association - ECPv4.8.1//NONSGML v1.0//EN
CALSCALE:GREGORIAN
METHOD:PUBLISH
X-WR-CALNAME:Washington Contract Firefighters Association
X-ORIGINAL-URL:https://www.wcfafirefighters.org
X-WR-CALDESC:Events for Washington Contract Firefighters Association
BEGIN:VEVENT
DTSTART;TZID=America/Los_Angeles:20190330T080000
DTEND;TZID=America/Los_Angeles:20190330T130000
DTSTAMP:20260422T022123
CREATED:20190330T170103Z
LAST-MODIFIED:20200101T070103Z
UID:90912-1553932800-1553950800@www.wcfafirefighters.org
SUMMARY:RT-130 Annual Refresher Brothers Fire Shop\, 204 Industrial Park Ave\, Twisp
DESCRIPTION:RT130 RefresherSign up for class!Location: Brothers Fire Shop\, 204 Industrial Park Ave\, TwispClick here to pay for classesInstructor: Saul LabanauskasContact Name : Danielle SimsContact Phone : 425-239-6613Contact Email : dsimswcfa@yahoo.com \n
URL:https://www.wcfafirefighters.org/event/RT-130-Annual-Refresher-896-1/
CATEGORIES:Training
END:VEVENT
END:VCALENDAR