BEGIN:VCALENDAR
VERSION:2.0
PRODID:-//Washington Contract Firefighters Association - ECPv4.8.1//NONSGML v1.0//EN
CALSCALE:GREGORIAN
METHOD:PUBLISH
X-WR-CALNAME:Washington Contract Firefighters Association
X-ORIGINAL-URL:https://www.wcfafirefighters.org
X-WR-CALDESC:Events for Washington Contract Firefighters Association
BEGIN:VEVENT
DTSTART;TZID=America/Los_Angeles:20190414T080000
DTEND;TZID=America/Los_Angeles:20190414T130000
DTSTAMP:20260422T022348
CREATED:20190420T160103Z
LAST-MODIFIED:20200101T070103Z
UID:90922-1555228800-1555246800@www.wcfafirefighters.org
SUMMARY:RT-130 Annual Refresher Chewack Shop\, 4708 West Maxs Lane\, Spokane\, WA.
DESCRIPTION:Annual Fireline Safety RefresherSign up for class!Location: Chewack Shop\, 4708 West Maxs Lane\, Spokane\, WA.Click here to pay for classesInstructor: Todd GravesContact Name : Danielle SimsContact Phone : 425-239-6613Contact Email : dsimswcfa@yahoo.com \n
URL:https://www.wcfafirefighters.org/event/RT-130-Annual-Refresher-901-1/
CATEGORIES:Training
END:VEVENT
END:VCALENDAR