BEGIN:VCALENDAR
VERSION:2.0
PRODID:-//Washington Contract Firefighters Association - ECPv4.8.1//NONSGML v1.0//EN
CALSCALE:GREGORIAN
METHOD:PUBLISH
X-WR-CALNAME:Washington Contract Firefighters Association
X-ORIGINAL-URL:https://www.wcfafirefighters.org
X-WR-CALDESC:Events for Washington Contract Firefighters Association
BEGIN:VEVENT
DTSTART;TZID=America/Los_Angeles:20190420T080000
DTEND;TZID=America/Los_Angeles:20190420T130000
DTSTAMP:20260422T004452
CREATED:20190423T030104Z
LAST-MODIFIED:20200101T070103Z
UID:90932-1555747200-1555765200@www.wcfafirefighters.org
SUMMARY:RT-130 Annual Refresher Chelan FD St. St 17 â€“ 3760 W. Malaga Road\, Malaga
DESCRIPTION:Annual Fireline Safety RefresherSign up for class!Location: Chelan FD St. St 17 â€“ 3760 W. Malaga Road\, MalagaClick here to pay for classesInstructor: Jacob BurkhartContact Name : Danielle SimsContact Phone : 425-239-6613Contact Email : dsimswcfa@yahoo.com \n
URL:https://www.wcfafirefighters.org/event/RT-130-Annual-Refresher-903-1/
CATEGORIES:Training
END:VEVENT
END:VCALENDAR