BEGIN:VCALENDAR
VERSION:2.0
PRODID:-//Washington Contract Firefighters Association - ECPv4.8.1//NONSGML v1.0//EN
CALSCALE:GREGORIAN
METHOD:PUBLISH
X-WR-CALNAME:Washington Contract Firefighters Association
X-ORIGINAL-URL:https://www.wcfafirefighters.org
X-WR-CALDESC:Events for Washington Contract Firefighters Association
BEGIN:VEVENT
DTSTART;TZID=America/Los_Angeles:20190427T080000
DTEND;TZID=America/Los_Angeles:20190427T130000
DTSTAMP:20260421T230836
CREATED:20190423T230103Z
LAST-MODIFIED:20200101T070103Z
UID:90933-1556352000-1556370000@www.wcfafirefighters.org
SUMMARY:RT-130 Annual Refresher Horseshoe Grange\, 16424 Broadway Ave\, Snohomish\,WA
DESCRIPTION:Annual Fireside Safety RefresherSign up for class!Location: Horseshoe Grange\, 16424 Broadway Ave\, Snohomish\,WAClick here to pay for classesInstructor: Kevin WeedContact Name : Danielle SimsContact Phone : 425-239-6613Contact Email : dsimswcfa@yahoo.com \n
URL:https://www.wcfafirefighters.org/event/RT-130-Annual-Refresher-904-1/
CATEGORIES:Training
END:VEVENT
END:VCALENDAR