BEGIN:VCALENDAR
VERSION:2.0
PRODID:-//Washington Contract Firefighters Association - ECPv4.8.1//NONSGML v1.0//EN
CALSCALE:GREGORIAN
METHOD:PUBLISH
X-WR-CALNAME:Washington Contract Firefighters Association
X-ORIGINAL-URL:https://www.wcfafirefighters.org
X-WR-CALDESC:Events for Washington Contract Firefighters Association
BEGIN:VEVENT
DTSTART;TZID=America/Los_Angeles:20190519T080000
DTEND;TZID=America/Los_Angeles:20190519T130000
DTSTAMP:20260422T004637
CREATED:20190606T175101Z
LAST-MODIFIED:20200101T070103Z
UID:90987-1558252800-1558270800@www.wcfafirefighters.org
SUMMARY:RT-130 Annual Refresher Rains Trout Farm\, 122 Hunter Mt. Road\, Pateros
DESCRIPTION:Annual Fireline Safety Refresher. **SHELTER DEPLOYMENT IS REQUIRED TO PASS THIS CLASS** Core course requirements. Entrapment Avoidance\, Current Issues\, Fire Shelter Deployment\, Other Hazards and Safety Issues.Sign up for class!Location: Rains Trout Farm\, 122 Hunter Mt. Road\, PaterosClick here to pay for classesInstructor: Dave RainsContact Name : Danielle SimsContact Phone : 425-239-6613Contact Email : dsimswcfa@yahoo.com \n
URL:https://www.wcfafirefighters.org/event/RT-130-Annual-Refresher-905-1/
CATEGORIES:Training
END:VEVENT
END:VCALENDAR