BEGIN:VCALENDAR
VERSION:2.0
PRODID:-//Washington Contract Firefighters Association - ECPv4.8.1//NONSGML v1.0//EN
CALSCALE:GREGORIAN
METHOD:PUBLISH
X-WR-CALNAME:Washington Contract Firefighters Association
X-ORIGINAL-URL:https://www.wcfafirefighters.org
X-WR-CALDESC:Events for Washington Contract Firefighters Association
BEGIN:VEVENT
DTSTART;TZID=America/Los_Angeles:20190609T080000
DTEND;TZID=America/Los_Angeles:20190609T170000
DTSTAMP:20260422T004636
CREATED:20190613T040103Z
LAST-MODIFIED:20200101T070103Z
UID:91003-1560067200-1560099600@www.wcfafirefighters.org
SUMMARY:RT-130 Annual Refresher Rains Trout Farm\, 122 Squaw Creek Road\, Pateros
DESCRIPTION:Class serves as annual fireline safety refresher.  Shelter deployment and field exercises utilized.Sign up for class!Location: Rains Trout Farm\, 122 Squaw Creek Road\, PaterosClick here to pay for classesInstructor: Dave RainsContact Name : Danielle SimsContact Phone : 425-239-6613Contact Email : dsimswcfa@yahoo.com \n
URL:https://www.wcfafirefighters.org/event/RT-130-Annual-Refresher-917-1/
CATEGORIES:Training
END:VEVENT
END:VCALENDAR