BEGIN:VCALENDAR
VERSION:2.0
PRODID:-//Washington Contract Firefighters Association - ECPv4.8.1//NONSGML v1.0//EN
CALSCALE:GREGORIAN
METHOD:PUBLISH
X-WR-CALNAME:Washington Contract Firefighters Association
X-ORIGINAL-URL:https://www.wcfafirefighters.org
X-WR-CALDESC:Events for Washington Contract Firefighters Association
BEGIN:VEVENT
DTSTART;TZID=America/Los_Angeles:20190619T164500
DTEND;TZID=America/Los_Angeles:20190619T214500
DTSTAMP:20260422T040034
CREATED:20190625T050104Z
LAST-MODIFIED:20200101T070104Z
UID:91012-1560962700-1560980700@www.wcfafirefighters.org
SUMMARY:RT-130 Annual Refresher Kevin Weed's Shop\, 13110 12th St SE\, Lake Stevens\,
DESCRIPTION:Annual Fireline Safety RefresherSign up for class!Location: Kevin Weed’s Shop\, 13110 12th St SE\, Lake Stevens\,Click here to pay for classesInstructor: Kevin WeedContact Name : Danielle SimsContact Phone : 425-239-6613Contact Email : dsimswcfa@yahoo.com \n
URL:https://www.wcfafirefighters.org/event/RT-130-Annual-Refresher-926-1/
CATEGORIES:Training
END:VEVENT
END:VCALENDAR