BEGIN:VCALENDAR
VERSION:2.0
PRODID:-//Washington Contract Firefighters Association - ECPv4.8.1//NONSGML v1.0//EN
CALSCALE:GREGORIAN
METHOD:PUBLISH
X-WR-CALNAME:Washington Contract Firefighters Association
X-ORIGINAL-URL:https://www.wcfafirefighters.org
X-WR-CALDESC:Events for Washington Contract Firefighters Association
BEGIN:VEVENT
DTSTART;TZID=America/Los_Angeles:20190724T090000
DTEND;TZID=America/Los_Angeles:20190724T140000
DTSTAMP:20260422T064045
CREATED:20190718T190103Z
LAST-MODIFIED:20200101T070104Z
UID:91018-1563958800-1563976800@www.wcfafirefighters.org
SUMMARY:RT-130 Annual Refresher Brothers Fire Shop\, 204 Industrial Ave. Twisp
DESCRIPTION:Annual Fireline Safety Refresher.  **SHELTER DEPLOYMENT IS REQUIRED TO PASS THIS CLASS** Core course requirements. Entrapment Avoidance\, Current Issues\, Fire Shelter Deployment\, Other Hazards and Safety Issues.Sign up for class!Location: Brothers Fire Shop\, 204 Industrial Ave. TwispClick here to pay for classesInstructor: Saul LabanauskasContact Name : Danielle SimsContact Phone : 425-239-6613Contact Email : dsimswcfa@yahoo.com \n
URL:https://www.wcfafirefighters.org/event/RT-130-Annual-Refresher-928-1/
CATEGORIES:Training
END:VEVENT
END:VCALENDAR