BEGIN:VCALENDAR
VERSION:2.0
PRODID:-//Washington Contract Firefighters Association - ECPv4.8.1//NONSGML v1.0//EN
CALSCALE:GREGORIAN
METHOD:PUBLISH
X-WR-CALNAME:Washington Contract Firefighters Association
X-ORIGINAL-URL:https://www.wcfafirefighters.org
X-WR-CALDESC:Events for Washington Contract Firefighters Association
BEGIN:VEVENT
DTSTART;TZID=America/Los_Angeles:20200314T080000
DTEND;TZID=America/Los_Angeles:20200314T130000
DTSTAMP:20260424T220159
CREATED:20200308T110101Z
LAST-MODIFIED:20210101T070101Z
UID:91150-1584172800-1584190800@www.wcfafirefighters.org
SUMMARY:RT-130 Annual Refresher Easy Street Fire Hall - 206 Easy Street\, Wenatchee
DESCRIPTION:Annual Fireline Safety Refresher. Core course requirements. Entrapment Avoidance\, Current Issues\, Fire Shelter Deployment\, Other Hazards and Safety Issues.Sign up for class!Location: Easy Street Fire Hall – 206 Easy Street\, WenatcheeClick here to pay for classesInstructor: Jacob BurkhartContact Name : Danielle SimsContact Phone : 425-239-6613Contact Email : dsimswcfa@yahoo.com \n
URL:https://www.wcfafirefighters.org/event/RT-130-Annual-Refresher-935-1/
CATEGORIES:Training
END:VEVENT
END:VCALENDAR