BEGIN:VCALENDAR
VERSION:2.0
PRODID:-//Washington Contract Firefighters Association - ECPv4.8.1//NONSGML v1.0//EN
CALSCALE:GREGORIAN
METHOD:PUBLISH
X-WR-CALNAME:Washington Contract Firefighters Association
X-ORIGINAL-URL:https://www.wcfafirefighters.org
X-WR-CALDESC:Events for Washington Contract Firefighters Association
BEGIN:VEVENT
DTSTART;TZID=America/Los_Angeles:20260529T080000
DTEND;TZID=America/Los_Angeles:20260529T170000
DTSTAMP:20260422T175139
CREATED:20260219T140103Z
LAST-MODIFIED:20260301T231316Z
UID:92699-1780041600-1780074000@www.wcfafirefighters.org
SUMMARY:S-112 Introduction to Chainsaw Operations Twisp Works Day One\, Curtis Property Day Two & Three - Day 1 of 3
DESCRIPTION:This is a 3 day course. NEW 2026 – This BLENDED course combines an online training (OLT – 4 hrs) component and an instructor-led training (ILT – 8 hrs)  component\, and 2 Field Days (FD – 16 hrs). Students must complete the online portion and send the completed certificate to dsimswcfa@gmail.com to attend the in-person learning. This course allows students to start a FAL3 Taskbook that they should bring to the class. Full PPE REQUIRED! Bring leather boots\, chainsaw\, fuel\, oil\, saw tools\, saw chaps\, gloves\, helmet\, eye protection and a warm coat if needed. Students will need to bring a lunch and drinks for the Field Days. The instructor will give directions to the Field Day location at the first class day.Location: Twisp Works Day One\, Curtis Property Day Two & ThreeInstructor: Charlie CurtisContact Name : Danielle SimsContact Phone : 425-239-6613Contact Email : dsimswcfa@gmail.comTo sign up for the class visit our TEQMET Training Database here.Return to our Website to pay for the class. \n
URL:https://www.wcfafirefighters.org/event/S-112-Introduction-to-Chainsaw-Operations-1442-1/
CATEGORIES:Training
END:VEVENT
END:VCALENDAR