BEGIN:VCALENDAR
VERSION:2.0
PRODID:-//Washington Contract Firefighters Association - ECPv4.8.1//NONSGML v1.0//EN
CALSCALE:GREGORIAN
METHOD:PUBLISH
X-WR-CALNAME:Washington Contract Firefighters Association
X-ORIGINAL-URL:https://www.wcfafirefighters.org
X-WR-CALDESC:Events for Washington Contract Firefighters Association
BEGIN:VEVENT
DTSTART;TZID=America/Los_Angeles:20160313T080000
DTEND;TZID=America/Los_Angeles:20160313T170000
DTSTAMP:20260422T202118
CREATED:20160301T090000Z
LAST-MODIFIED:20161231T090000Z
UID:775-1457856000-1457888400@www.wcfafirefighters.org
SUMMARY:S-130/190\, L-180 Basic FFT2 w/o I-100 SCFD #3 Stn 31\, 10 S. Presley Dr.\, Cheney WA. - Day 2 of 4
DESCRIPTION:Entry level course for beginning firefighters. Bring PPE on last day.Sign up for class!Location: SCFD #3 Stn 31\, 10 S. Presley Dr.\, Cheney WA.Click here to pay for classesContact: Todd Graves \n
URL:https://www.wcfafirefighters.org/event/S-130-190-L-180-Basic-FFT2-w-o-I-100-615-2/
CATEGORIES:Training
END:VEVENT
END:VCALENDAR