BEGIN:VCALENDAR
VERSION:2.0
PRODID:-//Washington Contract Firefighters Association - ECPv4.8.1//NONSGML v1.0//EN
CALSCALE:GREGORIAN
METHOD:PUBLISH
X-WR-CALNAME:Washington Contract Firefighters Association
X-ORIGINAL-URL:https://www.wcfafirefighters.org
X-WR-CALDESC:Events for Washington Contract Firefighters Association
BEGIN:VEVENT
DTSTART;TZID=America/Los_Angeles:20160609T080000
DTEND;TZID=America/Los_Angeles:20160609T180000
DTSTAMP:20260422T154338
CREATED:20160301T090000Z
LAST-MODIFIED:20161231T090000Z
UID:780-1465459200-1465495200@www.wcfafirefighters.org
SUMMARY:S-130/190\, L-180 Basic FFT2 w/o I-100 Rains Trout Farm\, 122 Squaw Creek Rd\, Pateros - Day 1 of 4
DESCRIPTION:Entry level course for beginning firefighters. Class fee includes light breakfast and lunch each day. Location is 1.5 miles up Squaw Creek Rd.- 1st driveway to the right. If you are going up the Methow we are 7 miles up and take a left on Squaw creek \, if they are coming down the Methow Hiway it is approx. 2 miles past the town of Methow and you take a right.Sign up for class!Location: Rains Trout Farm\, 122 Squaw Creek Rd\, PaterosClick here to pay for classesContact: Dave Rains \n
URL:https://www.wcfafirefighters.org/event/S-130-190-L-180-Basic-FFT2-w-o-I-100-618-1/
CATEGORIES:Training
END:VEVENT
END:VCALENDAR