BEGIN:VCALENDAR
VERSION:2.0
PRODID:-//Washington Contract Firefighters Association - ECPv4.8.1//NONSGML v1.0//EN
CALSCALE:GREGORIAN
METHOD:PUBLISH
X-WR-CALNAME:Washington Contract Firefighters Association
X-ORIGINAL-URL:https://www.wcfafirefighters.org
X-WR-CALDESC:Events for Washington Contract Firefighters Association
BEGIN:VEVENT
DTSTART;TZID=America/Los_Angeles:20160616T080000
DTEND;TZID=America/Los_Angeles:20160616T180000
DTSTAMP:20260423T013638
CREATED:20160301T090000Z
LAST-MODIFIED:20161231T090000Z
UID:799-1466064000-1466100000@www.wcfafirefighters.org
SUMMARY:S-130/190\, L-180 Basic FFT2 w/o I-100 Lifeline Ambulance\, 501 N. Wenatchee Ave\, Wen. WA - Day 1 of 4
DESCRIPTION:Entry level class for beginning firefighters. Field day will be at an alternate location to be announced in class. Full PPE is required (hard hats shirts eye protection etc.)please come prepared for field day. Make sure your PPE is marked with your company name. Sign up for class!Location: Lifeline Ambulance\, 501 N. Wenatchee Ave\, Wen. WAClick here to pay for classesContact: Todd Graves \n
URL:https://www.wcfafirefighters.org/event/S-130-190-L-180-Basic-FFT2-w-o-I-100-631-1/
CATEGORIES:Training
END:VEVENT
END:VCALENDAR