BEGIN:VCALENDAR
VERSION:2.0
PRODID:-//Washington Contract Firefighters Association - ECPv4.8.1//NONSGML v1.0//EN
CALSCALE:GREGORIAN
METHOD:PUBLISH
X-WR-CALNAME:Washington Contract Firefighters Association
X-ORIGINAL-URL:https://www.wcfafirefighters.org
X-WR-CALDESC:Events for Washington Contract Firefighters Association
BEGIN:VEVENT
DTSTART;TZID=America/Los_Angeles:20170422T080000
DTEND;TZID=America/Los_Angeles:20170422T170000
DTSTAMP:20260423T045143
CREATED:20171231T090000Z
LAST-MODIFIED:20171231T090000Z
UID:79095-1492848000-1492880400@www.wcfafirefighters.org
SUMMARY:S-130/190\, L-180 Basic FFT2 w/o I-100 Spokane Area (See Description) Three Locations - Day 3 of 4
DESCRIPTION:This course is for beginning firefighters. April 8&9 Location: Spokane Fire Station #4 – 1515 W. 1st Ave\, Spokane.  April 22 Location: Medical Lake Library – 321 E. Herb St.\, Medical Lake.  Last Day (Field Day)\, April 23rd will be at 15312 S. Clear Lake Rd. Cheney WA.Sign up for class!Location: Spokane Area (See Description) Three LocationsClick here to pay for classesContact: Todd Graves \n
URL:https://www.wcfafirefighters.org/event/S-130-190-L-180-Basic-FFT2-w-o-I-100-680-3/
CATEGORIES:Training
END:VEVENT
END:VCALENDAR