BEGIN:VCALENDAR
VERSION:2.0
PRODID:-//Washington Contract Firefighters Association - ECPv4.8.1//NONSGML v1.0//EN
CALSCALE:GREGORIAN
METHOD:PUBLISH
X-WR-CALNAME:Washington Contract Firefighters Association
X-ORIGINAL-URL:https://www.wcfafirefighters.org
X-WR-CALDESC:Events for Washington Contract Firefighters Association
BEGIN:VEVENT
DTSTART;TZID=America/Los_Angeles:20170409T080000
DTEND;TZID=America/Los_Angeles:20170409T170000
DTSTAMP:20260423T031206
CREATED:20171231T090000Z
LAST-MODIFIED:20171231T090000Z
UID:79103-1491724800-1491757200@www.wcfafirefighters.org
SUMMARY:S-130/190\, L-180 Basic FFT2 w/o I-100 WFS Bldg\, 3505 1/2 Fruitvale Blvd.\, Yakima - Day 4 of 4
DESCRIPTION:Basic fire training for beginning firefighters.Sign up for class!Location: WFS Bldg\, 3505 1/2 Fruitvale Blvd.\, YakimaClick here to pay for classesContact: James  Harter \n
URL:https://www.wcfafirefighters.org/event/S-130-190-L-180-Basic-FFT2-w-o-I-100-685-4/
CATEGORIES:Training
END:VEVENT
END:VCALENDAR