BEGIN:VCALENDAR
VERSION:2.0
PRODID:-//Washington Contract Firefighters Association - ECPv4.8.1//NONSGML v1.0//EN
CALSCALE:GREGORIAN
METHOD:PUBLISH
X-WR-CALNAME:Washington Contract Firefighters Association
X-ORIGINAL-URL:https://www.wcfafirefighters.org
X-WR-CALDESC:Events for Washington Contract Firefighters Association
BEGIN:VEVENT
DTSTART;TZID=America/Los_Angeles:20180609T080000
DTEND;TZID=America/Los_Angeles:20180609T170000
DTSTAMP:20260422T223817
CREATED:20180210T090000Z
LAST-MODIFIED:20180606T011926Z
UID:90612-1528531200-1528563600@www.wcfafirefighters.org
SUMMARY:S-130/190\, L-180 Basic FFT2 w/o I-100 Rains Trout Farm\, 122 Hunter Mtn. Rd\, Pateros - Day 3 of 4
DESCRIPTION:Basic firefighter training for beginning firefighters. IS-100 & IS-700a courses ares required too and must be taken online at the FEMA website prior to attendance to this class. Be sure you student brings clothing and tools for Field Day. Packs if they are going to be tested. Class fee includes light breakfast and lunch each day. Location is 1.5 miles up Squaw Creek Rd.- 1st driveway to the right. If you are going up the Methow we are 7 miles up and take a left on Hunter Mtn. Rd\, (formerly Squaw Creek)\, if they are coming down the Methow Hiway it is approx. 2 miles past the town of Methow and you take a right. **PACK TEST 1730\, BRING PACKS**Sign up for class!Location: Rains Trout Farm\, 122 Hunter Mtn. Rd\, PaterosClick here to pay for classesInstructor: Dave RainsContact Name : Danielle SimsContact Phone : 425-239-6613Contact Email : dsimswcfa@yahoo.com \n
URL:https://www.wcfafirefighters.org/event/S-130-190-L-180-Basic-FFT2-w-o-I-100-765-3/
CATEGORIES:Training
END:VEVENT
END:VCALENDAR