BEGIN:VCALENDAR
VERSION:2.0
PRODID:-//Washington Contract Firefighters Association - ECPv4.8.1//NONSGML v1.0//EN
CALSCALE:GREGORIAN
METHOD:PUBLISH
X-WR-CALNAME:Washington Contract Firefighters Association
X-ORIGINAL-URL:https://www.wcfafirefighters.org
X-WR-CALDESC:Events for Washington Contract Firefighters Association
BEGIN:VEVENT
DTSTART;TZID=America/Los_Angeles:20190428T080000
DTEND;TZID=America/Los_Angeles:20190428T170000
DTSTAMP:20260422T022354
CREATED:20190201T014317Z
LAST-MODIFIED:20200101T070102Z
UID:90823-1556438400-1556470800@www.wcfafirefighters.org
SUMMARY:S-130/190\, L-180 Basic FFT2 w/o I-100 Spokane City Fire Station 4\, 1515 W. 1st Ave. - Day 2 of 4
DESCRIPTION:Please have your employees park on the West side of the building and do not block the apparatus doors. The one way streets in the area are challenging so watch the street signs. Description: Basic FFT2 wildland fire training. 4 day class. Last day is the field day. Items students will need to bring for field day are: lunch\, gloves\, hardhat\, eye protection\, hearing protection\, long sleeve shirt\, long pants\, boots or hiking type boots & water.Sign up for class!Location: Spokane City Fire Station 4\, 1515 W. 1st Ave.Click here to pay for classesInstructor: Todd GravesContact Name : Danielle SimsContact Phone : 425-239-6613Contact Email : dsimswcfa@yahoo.com \n
URL:https://www.wcfafirefighters.org/event/S-130-190-L-180-Basic-FFT2-w-o-I-100-863-2/
CATEGORIES:Training
END:VEVENT
END:VCALENDAR