BEGIN:VCALENDAR
VERSION:2.0
PRODID:-//Washington Contract Firefighters Association - ECPv4.8.1//NONSGML v1.0//EN
CALSCALE:GREGORIAN
METHOD:PUBLISH
X-WR-CALNAME:Washington Contract Firefighters Association
X-ORIGINAL-URL:https://www.wcfafirefighters.org
X-WR-CALDESC:Events for Washington Contract Firefighters Association
BEGIN:VEVENT
DTSTART;TZID=America/Los_Angeles:20190614T080000
DTEND;TZID=America/Los_Angeles:20190614T170000
DTSTAMP:20260422T022353
CREATED:20190201T014318Z
LAST-MODIFIED:20200101T070102Z
UID:90840-1560499200-1560531600@www.wcfafirefighters.org
SUMMARY:S-130/190\, L-180 Basic FFT2 w/o I-100 Chelan FD #1\, 206 Easy Street\, Wenatchee\, WA. - Day 2 of 4
DESCRIPTION:Basic firefighter training for beginning firefighters. IS-100 & IS-700a courses ares required too and must be taken online at the FEMA website\, preferably before this class. Make sure your student has required clothing\, tools and PPE for the Field Day.Sign up for class!Location: Chelan FD #1\, 206 Easy Street\, Wenatchee\, WA.Click here to pay for classesInstructor: Todd GravesContact Name : Danielle SimsContact Phone : 425-239-6613Contact Email : dsimswcfa@yahoo.com \n
URL:https://www.wcfafirefighters.org/event/S-130-190-L-180-Basic-FFT2-w-o-I-100-874-2/
CATEGORIES:Training
END:VEVENT
END:VCALENDAR