BEGIN:VCALENDAR
VERSION:2.0
PRODID:-//Washington Contract Firefighters Association - ECPv4.8.1//NONSGML v1.0//EN
CALSCALE:GREGORIAN
METHOD:PUBLISH
X-WR-CALNAME:Washington Contract Firefighters Association
X-ORIGINAL-URL:https://www.wcfafirefighters.org
X-WR-CALDESC:Events for Washington Contract Firefighters Association
BEGIN:VEVENT
DTSTART;TZID=America/Los_Angeles:20190608T080000
DTEND;TZID=America/Los_Angeles:20190608T170000
DTSTAMP:20260422T022353
CREATED:20190201T014318Z
LAST-MODIFIED:20200101T070102Z
UID:90846-1559980800-1560013200@www.wcfafirefighters.org
SUMMARY:S-130/190\, L-180 Basic FFT2 w/o I-100 Rains Trout Farm\, 122 Hunter Mt. Rd.\,  Pateros\, WA - Day 3 of 4
DESCRIPTION:**Food Fee per day is $5.00\, included in class fee.  Basic firefighter training for beginning firefighters. IS-100 & IS-700a courses ares required too and must be taken online at the FEMA website prior to attendance to this class. Be sure you student brings clothing and tools for Field Day. Packs if they are going to be tested. Class fee includes light breakfast each day and lunch on last day only. Location is 1.5 miles up Squaw Creek Rd.- 1st driveway to the right. If you are going up HWY 153 we are 7 miles up and take a left on Hunter Mtn. Rd\, (formerly Squaw Creek)\, if they are coming down HWY 153 it is approx. 2 miles past the town of Methow and you take a right.Sign up for class!Location: Rains Trout Farm\, 122 Hunter Mt. Rd.\,  Pateros\, WAClick here to pay for classesInstructor: Dave RainsContact Name : Danielle SimsContact Phone : 425-239-6613Contact Email : dsimswcfa@yahoo.com \n
URL:https://www.wcfafirefighters.org/event/S-130-190-L-180-Basic-FFT2-w-o-I-100-877-3/
CATEGORIES:Training
END:VEVENT
END:VCALENDAR