BEGIN:VCALENDAR
VERSION:2.0
PRODID:-//Washington Contract Firefighters Association - ECPv4.8.1//NONSGML v1.0//EN
CALSCALE:GREGORIAN
METHOD:PUBLISH
X-WR-CALNAME:Washington Contract Firefighters Association
X-ORIGINAL-URL:https://www.wcfafirefighters.org
X-WR-CALDESC:Events for Washington Contract Firefighters Association
BEGIN:VEVENT
DTSTART;TZID=America/Los_Angeles:20250504T080000
DTEND;TZID=America/Los_Angeles:20250504T170000
DTSTAMP:20260423T015041
CREATED:20250309T110104Z
LAST-MODIFIED:20260101T070105Z
UID:92558-1746345600-1746378000@www.wcfafirefighters.org
SUMMARY:S-130 Blended FFT2 Field Day Wildfire Services 3505 1/2 Fruitvale Blvd Yakima
DESCRIPTION:Required Field Day for online S-130. S-130 online certificate must be sent to dsimswcfa@gmail.com prior to class start day to attend. Please bring long-sleeved shirt\, long pants\, work boots\, hard hat\, gloves\, eye protection\, leather gloves and water.Sign up for class!Location: Wildfire Services 3505 1/2 Fruitvale Blvd YakimaClick here to pay for classesInstructor: Jason SareContact Name : Danielle SimsContact Phone : 425-239-6613Contact Email : dsimswcfa@gmail.com \n
URL:https://www.wcfafirefighters.org/event/S-130-Blended-FFT2-Field-Day-1393-1/
CATEGORIES:Training
END:VEVENT
END:VCALENDAR