BEGIN:VCALENDAR
VERSION:2.0
PRODID:-//Washington Contract Firefighters Association - ECPv4.8.1//NONSGML v1.0//EN
CALSCALE:GREGORIAN
METHOD:PUBLISH
X-WR-CALNAME:Washington Contract Firefighters Association
X-ORIGINAL-URL:https://www.wcfafirefighters.org
X-WR-CALDESC:Events for Washington Contract Firefighters Association
BEGIN:VEVENT
DTSTART;TZID=America/Los_Angeles:20160612T080000
DTEND;TZID=America/Los_Angeles:20160612T170000
DTSTAMP:20260422T234610
CREATED:20160301T090000Z
LAST-MODIFIED:20161231T090000Z
UID:789-1465718400-1465750800@www.wcfafirefighters.org
SUMMARY:S-130 Blended FFT2 Field Day Rains Trout Farm\, 122 Squaw Creek Rd\, Pateros
DESCRIPTION:Required Field Day for online S-130 course.  Bring PPE to class.Sign up for class!Location: Rains Trout Farm\, 122 Squaw Creek Rd\, PaterosClick here to pay for classesContact: Dave Rains \n
URL:https://www.wcfafirefighters.org/event/S-130-Blended-FFT2-Field-Day-621-1/
CATEGORIES:Training
END:VEVENT
END:VCALENDAR