BEGIN:VCALENDAR
VERSION:2.0
PRODID:-//Washington Contract Firefighters Association - ECPv4.8.1//NONSGML v1.0//EN
CALSCALE:GREGORIAN
METHOD:PUBLISH
X-WR-CALNAME:Washington Contract Firefighters Association
X-ORIGINAL-URL:https://www.wcfafirefighters.org
X-WR-CALDESC:Events for Washington Contract Firefighters Association
BEGIN:VEVENT
DTSTART;TZID=America/Los_Angeles:20160503T083000
DTEND;TZID=America/Los_Angeles:20160503T153000
DTSTAMP:20260423T005428
CREATED:20160323T080000Z
LAST-MODIFIED:20161231T090000Z
UID:1116-1462264200-1462289400@www.wcfafirefighters.org
SUMMARY:S-130 Blended FFT2 Field Day Promiseland Park\, Hoquiam\, WA
DESCRIPTION:Field DaySign up for class!Location: Promiseland Park\, Hoquiam\, WAClick here to pay for classesContact: Kevin Curfman \n
URL:https://www.wcfafirefighters.org/event/S-130-Blended-FFT2-Field-Day-650-1/
CATEGORIES:Training
END:VEVENT
END:VCALENDAR