BEGIN:VCALENDAR
VERSION:2.0
PRODID:-//Washington Contract Firefighters Association - ECPv4.8.1//NONSGML v1.0//EN
CALSCALE:GREGORIAN
METHOD:PUBLISH
X-WR-CALNAME:Washington Contract Firefighters Association
X-ORIGINAL-URL:https://www.wcfafirefighters.org
X-WR-CALDESC:Events for Washington Contract Firefighters Association
BEGIN:VEVENT
DTSTART;TZID=America/Los_Angeles:20160619T080000
DTEND;TZID=America/Los_Angeles:20160619T170000
DTSTAMP:20260422T165121
CREATED:20160414T080000Z
LAST-MODIFIED:20161231T090000Z
UID:1155-1466323200-1466355600@www.wcfafirefighters.org
SUMMARY:S-130 Blended FFT2 Field Day Lifeline Ambulance\, 501 N. Wenatchee Ave\, Wen. WA
DESCRIPTION:Required Field Day for the Online S-130 course.Sign up for class!Location: Lifeline Ambulance\, 501 N. Wenatchee Ave\, Wen. WAClick here to pay for classesContact: Todd Graves \n
URL:https://www.wcfafirefighters.org/event/S-130-Blended-FFT2-Field-Day-655-1/
CATEGORIES:Training
END:VEVENT
END:VCALENDAR