BEGIN:VCALENDAR
VERSION:2.0
PRODID:-//Washington Contract Firefighters Association - ECPv4.8.1//NONSGML v1.0//EN
CALSCALE:GREGORIAN
METHOD:PUBLISH
X-WR-CALNAME:Washington Contract Firefighters Association
X-ORIGINAL-URL:https://www.wcfafirefighters.org
X-WR-CALDESC:Events for Washington Contract Firefighters Association
BEGIN:VEVENT
DTSTART;TZID=America/Los_Angeles:20160624T080000
DTEND;TZID=America/Los_Angeles:20160624T170000
DTSTAMP:20260422T140734
CREATED:20160914T080000Z
LAST-MODIFIED:20161231T090000Z
UID:1202-1466755200-1466787600@www.wcfafirefighters.org
SUMMARY:S-130 Blended FFT2 Field Day 518 N. Minor Ave\, East Wenatchee
DESCRIPTION:Required Field Day for S-130.Sign up for class!Location: 518 N. Minor Ave\, East WenatcheeClick here to pay for classesContact: Jacob Burkhart \n
URL:https://www.wcfafirefighters.org/event/S-130-Blended-FFT2-Field-Day-674-1/
CATEGORIES:Training
END:VEVENT
END:VCALENDAR