BEGIN:VCALENDAR
VERSION:2.0
PRODID:-//Washington Contract Firefighters Association - ECPv4.8.1//NONSGML v1.0//EN
CALSCALE:GREGORIAN
METHOD:PUBLISH
X-WR-CALNAME:Washington Contract Firefighters Association
X-ORIGINAL-URL:https://www.wcfafirefighters.org
X-WR-CALDESC:Events for Washington Contract Firefighters Association
BEGIN:VEVENT
DTSTART;TZID=America/Los_Angeles:20170908T080000
DTEND;TZID=America/Los_Angeles:20170908T170000
DTSTAMP:20260422T064614
CREATED:20171231T090000Z
LAST-MODIFIED:20171231T090000Z
UID:79180-1504857600-1504890000@www.wcfafirefighters.org
SUMMARY:S-130 Blended FFT2 Field Day Chewack WF\, 4708 West Maxs Lane\, Spokane
DESCRIPTION:Required Field Day for S-130 online course.Sign up for class!Location: Chewack WF\, 4708 West Maxs Lane\, SpokaneClick here to pay for classesContact: Todd Graves \n
URL:https://www.wcfafirefighters.org/event/S-130-Blended-FFT2-Field-Day-743-1/
CATEGORIES:Training
END:VEVENT
END:VCALENDAR