BEGIN:VCALENDAR
VERSION:2.0
PRODID:-//Washington Contract Firefighters Association - ECPv4.8.1//NONSGML v1.0//EN
CALSCALE:GREGORIAN
METHOD:PUBLISH
X-WR-CALNAME:Washington Contract Firefighters Association
X-ORIGINAL-URL:https://www.wcfafirefighters.org
X-WR-CALDESC:Events for Washington Contract Firefighters Association
BEGIN:VEVENT
DTSTART;TZID=America/Los_Angeles:20180610T080000
DTEND;TZID=America/Los_Angeles:20180610T170000
DTSTAMP:20260422T161004
CREATED:20180210T090000Z
LAST-MODIFIED:20180606T011926Z
UID:90614-1528617600-1528650000@www.wcfafirefighters.org
SUMMARY:S-130 Blended FFT2 Field Day Rains Trout Farm\, 122 Hunter Mtn. Rd\, Pateros
DESCRIPTION:Required Field Day to complete online S-130 training. Proof of S-130 online required to take class.  Send proof to dsimswcfa@yahoo.com prior to class.  Please have your students bring the following to the class: lunch\, gloves\, hardhat\, eye protection\, hearing protection\, long sleeve shirt\, long pants\, boots or hiking type boots\, water. Includes light snack/lunch.Sign up for class!Location: Rains Trout Farm\, 122 Hunter Mtn. Rd\, PaterosClick here to pay for classesInstructor: Dave RainsContact Name : Danielle SimsContact Phone : 425-239-6613Contact Email : dsimswcfa@yahoo.com \n
URL:https://www.wcfafirefighters.org/event/S-130-Blended-FFT2-Field-Day-766-1/
CATEGORIES:Training
END:VEVENT
END:VCALENDAR