BEGIN:VCALENDAR
VERSION:2.0
PRODID:-//Washington Contract Firefighters Association - ECPv4.8.1//NONSGML v1.0//EN
CALSCALE:GREGORIAN
METHOD:PUBLISH
X-WR-CALNAME:Washington Contract Firefighters Association
X-ORIGINAL-URL:https://www.wcfafirefighters.org
X-WR-CALDESC:Events for Washington Contract Firefighters Association
BEGIN:VEVENT
DTSTART;TZID=America/Los_Angeles:20180610T070000
DTEND;TZID=America/Los_Angeles:20180610T170000
DTSTAMP:20260422T191234
CREATED:20180606T011823Z
LAST-MODIFIED:20180606T011928Z
UID:90723-1528614000-1528650000@www.wcfafirefighters.org
SUMMARY:S-130 Blended FFT2 Field Day TBD
DESCRIPTION:Required Field Day for the S-130 online course.  Please be aware that this day start time is 0700.  Students must bring a lunch and water.  All PPE is required.  This is going to be a live burn.Sign up for class!Location: TBDClick here to pay for classesInstructor: Charlie CurtisContact Name : Danielle SimsContact Phone : 425-239-6613Contact Email : dsimswcfa@yahoo.com \n
URL:https://www.wcfafirefighters.org/event/S-130-Blended-FFT2-Field-Day-811-1/
CATEGORIES:Training
END:VEVENT
END:VCALENDAR