BEGIN:VCALENDAR
VERSION:2.0
PRODID:-//Washington Contract Firefighters Association - ECPv4.8.1//NONSGML v1.0//EN
CALSCALE:GREGORIAN
METHOD:PUBLISH
X-WR-CALNAME:Washington Contract Firefighters Association
X-ORIGINAL-URL:https://www.wcfafirefighters.org
X-WR-CALDESC:Events for Washington Contract Firefighters Association
BEGIN:VEVENT
DTSTART;TZID=America/Los_Angeles:20190505T080000
DTEND;TZID=America/Los_Angeles:20190505T170000
DTSTAMP:20260422T113622
CREATED:20190201T014317Z
LAST-MODIFIED:20200101T070102Z
UID:90831-1557043200-1557075600@www.wcfafirefighters.org
SUMMARY:S-130 Blended FFT2 Field Day WFS 3505 1/2 Fruitvale Blvd\,\, Yakima
DESCRIPTION:Description: Required field day for the on-line S-130 class. S-130 certificate has to be sent to the Training Coordinator at dsimswcfa@yahoo.com prior to the start of this class. Please have your students bring the following to the class: lunch\, gloves\, hardhat\, eye protection\, hearing protection\, long sleeve shirt\, long pants\, boots or hiking type boots\, water.Sign up for class!Location: WFS 3505 1/2 Fruitvale Blvd\,\, YakimaClick here to pay for classesInstructor: Timothy Logozzo Sr.Contact Name : Danielle SimsContact Phone : 425-239-6613Contact Email : dsimswcfa@yahoo.com \n
URL:https://www.wcfafirefighters.org/event/S-130-Blended-FFT2-Field-Day-866-1/
CATEGORIES:Training
END:VEVENT
END:VCALENDAR