BEGIN:VCALENDAR
VERSION:2.0
PRODID:-//Washington Contract Firefighters Association - ECPv4.8.1//NONSGML v1.0//EN
CALSCALE:GREGORIAN
METHOD:PUBLISH
X-WR-CALNAME:Washington Contract Firefighters Association
X-ORIGINAL-URL:https://www.wcfafirefighters.org
X-WR-CALDESC:Events for Washington Contract Firefighters Association
BEGIN:VEVENT
DTSTART;TZID=America/Los_Angeles:20190513T080000
DTEND;TZID=America/Los_Angeles:20190513T170000
DTSTAMP:20260422T053531
CREATED:20190606T175101Z
LAST-MODIFIED:20200101T070103Z
UID:90990-1557734400-1557766800@www.wcfafirefighters.org
SUMMARY:S-130 Blended FFT2 Field Day Promise Land Park\, Hoquiam\, WA
DESCRIPTION:Required field day for S-130 and refresher for continuing education.Sign up for class!Location: Promise Land Park\, Hoquiam\, WAClick here to pay for classesInstructor: Kevin CurfmanContact Name : Danielle SimsContact Phone : 425-239-6613Contact Email : dsimswcfa@yahoo.com \n
URL:https://www.wcfafirefighters.org/event/S-130-Blended-FFT2-Field-Day-908-1/
CATEGORIES:Training
END:VEVENT
END:VCALENDAR