BEGIN:VCALENDAR
VERSION:2.0
PRODID:-//Washington Contract Firefighters Association - ECPv4.8.1//NONSGML v1.0//EN
CALSCALE:GREGORIAN
METHOD:PUBLISH
X-WR-CALNAME:Washington Contract Firefighters Association
X-ORIGINAL-URL:https://www.wcfafirefighters.org
X-WR-CALDESC:Events for Washington Contract Firefighters Association
BEGIN:VEVENT
DTSTART;TZID=America/Los_Angeles:20190609T080000
DTEND;TZID=America/Los_Angeles:20190609T170000
DTSTAMP:20260422T022233
CREATED:20190611T210104Z
LAST-MODIFIED:20200101T070103Z
UID:90999-1560067200-1560099600@www.wcfafirefighters.org
SUMMARY:S-130 Blended FFT2 Field Day Brother's Fire Shop 204 Industrial Ave\, Twisp\, WA
DESCRIPTION:Required Field Day for S-130 online training.Sign up for class!Location: Brother’s Fire Shop 204 Industrial Ave\, Twisp\, WAClick here to pay for classesInstructor: Saul LabanauskasContact Name : Danielle SimsContact Phone : 425-239-6613Contact Email : dsimswcfa@yahoo.com \n
URL:https://www.wcfafirefighters.org/event/S-130-Blended-FFT2-Field-Day-915-1/
CATEGORIES:Training
END:VEVENT
END:VCALENDAR