BEGIN:VCALENDAR
VERSION:2.0
PRODID:-//Washington Contract Firefighters Association - ECPv4.8.1//NONSGML v1.0//EN
CALSCALE:GREGORIAN
METHOD:PUBLISH
X-WR-CALNAME:Washington Contract Firefighters Association
X-ORIGINAL-URL:https://www.wcfafirefighters.org
X-WR-CALDESC:Events for Washington Contract Firefighters Association
BEGIN:VEVENT
DTSTART;TZID=America/Los_Angeles:20260503T080000
DTEND;TZID=America/Los_Angeles:20260503T170000
DTSTAMP:20260422T131837
CREATED:20260219T140103Z
LAST-MODIFIED:20260301T231316Z
UID:92694-1777795200-1777827600@www.wcfafirefighters.org
SUMMARY:S-130 Blended Field Day FFT2 Field Day Wildfire Services - 3505 1/2 Fruitvale Blvd\, Yakima\, WA
DESCRIPTION:Required Field Day for online S-130. S-130 online certificate must be sent to dsimswcfa@gmail.com prior to class start day to attend. Please bring long-sleeved shirt\, long pants\, work boots\, hard hat\, gloves\, eye protection\, leather gloves\, lunch and water.Location: Wildfire Services – 3505 1/2 Fruitvale Blvd\, Yakima\, WAInstructor: Jason SareContact Name : Danielle SimsContact Phone : 425-239-6613Contact Email : dsimswcfa@gmail.comTo sign up for the class visit our TEQMET Training Database here.Return to our Website to pay for the class. \n
URL:https://www.wcfafirefighters.org/event/S-130-Blended-Field-Day-FFT2-Field-Day-1437-1/
CATEGORIES:Training
END:VEVENT
END:VCALENDAR