BEGIN:VCALENDAR
VERSION:2.0
PRODID:-//Washington Contract Firefighters Association - ECPv4.8.1//NONSGML v1.0//EN
CALSCALE:GREGORIAN
METHOD:PUBLISH
X-WR-CALNAME:Washington Contract Firefighters Association
X-ORIGINAL-URL:https://www.wcfafirefighters.org
X-WR-CALDESC:Events for Washington Contract Firefighters Association
BEGIN:VEVENT
DTSTART;TZID=America/Los_Angeles:20260413T080000
DTEND;TZID=America/Los_Angeles:20260413T170000
DTSTAMP:20260422T145224
CREATED:20260220T070105Z
LAST-MODIFIED:20260301T231317Z
UID:92740-1776067200-1776099600@www.wcfafirefighters.org
SUMMARY:S-130 Blended Field Day FFT2 Field Day Spokane TBD
DESCRIPTION:Required Field Day for online S-130. S-130 online certificate must be sent to dsimswcfa@gmail.com prior to class start day to attend. Please bring long-sleeved shirt\, long pants\, work boots\, hard hat\, gloves\, eye protection\, leather gloves and water.  Spokane location will be updated prior to the class date.Location: Spokane TBDInstructor: Greg IsaacContact Name : Danielle SimsContact Phone : 425-239-6613Contact Email : dsimswcfa@gmail.comTo sign up for the class visit our TEQMET Training Database here.Return to our Website to pay for the class. \n
URL:https://www.wcfafirefighters.org/event/S-130-Blended-Field-Day-FFT2-Field-Day-1465-1/
CATEGORIES:Training
END:VEVENT
END:VCALENDAR