BEGIN:VCALENDAR
VERSION:2.0
PRODID:-//Washington Contract Firefighters Association - ECPv4.8.1//NONSGML v1.0//EN
CALSCALE:GREGORIAN
METHOD:PUBLISH
X-WR-CALNAME:Washington Contract Firefighters Association
X-ORIGINAL-URL:https://www.wcfafirefighters.org
X-WR-CALDESC:Events for Washington Contract Firefighters Association
BEGIN:VEVENT
DTSTART;TZID=America/Los_Angeles:20190406T080000
DTEND;TZID=America/Los_Angeles:20190406T220000
DTSTAMP:20260421T195040
CREATED:20190219T220103Z
LAST-MODIFIED:20200101T070102Z
UID:90866-1554537600-1554588000@www.wcfafirefighters.org
SUMMARY:S-131 Advanced Firefighter Training WFS Bldg\, 3505 1/2 Fruitvale Blvd. Yakima
DESCRIPTION:Advanced FFT1 course for those firefighters wishing to advance to FFT1. S-133 is built into this course as of 10/2016 and will no longer be listed on the certificate. This is a long 12 hour day so be prepared.Sign up for class!Location: WFS Bldg\, 3505 1/2 Fruitvale Blvd. YakimaClick here to pay for classesInstructor: Timothy Logozzo Sr.Contact Name : Danielle SimsContact Phone : 425-239-6613Contact Email : dsimswcfa@yahoo.com \n
URL:https://www.wcfafirefighters.org/event/S-131-Advanced-Firefighter-Training-885-1/
CATEGORIES:Training
END:VEVENT
END:VCALENDAR