BEGIN:VCALENDAR
VERSION:2.0
PRODID:-//Washington Contract Firefighters Association - ECPv4.8.1//NONSGML v1.0//EN
CALSCALE:GREGORIAN
METHOD:PUBLISH
X-WR-CALNAME:Washington Contract Firefighters Association
X-ORIGINAL-URL:https://www.wcfafirefighters.org
X-WR-CALDESC:Events for Washington Contract Firefighters Association
BEGIN:VEVENT
DTSTART;TZID=America/Los_Angeles:20260502T080000
DTEND;TZID=America/Los_Angeles:20260502T200000
DTSTAMP:20260422T114209
CREATED:20260220T070104Z
LAST-MODIFIED:20260301T231317Z
UID:92735-1777708800-1777752000@www.wcfafirefighters.org
SUMMARY:S-131 Firefighter Type 1 Spokane City Fire Station 4\, 1515 W. 1st Ave.
DESCRIPTION:Please have your employees park on the West side of the building and do not block the apparatus doors. The one way streets in the area are challenging so watch the street signs. Advanced FFT1 course for those firefighters wishing to advance to FFT1. This is a long 12 hour day so be prepared. Location: Spokane City Fire Station 4\, 1515 W. 1st Ave.Instructor: Todd GravesContact Name : Danielle SimsContact Phone : 425-239-6613Contact Email : dsimswcfa@gmail.comTo sign up for the class visit our TEQMET Training Database here.Return to our Website to pay for the class. \n
URL:https://www.wcfafirefighters.org/event/S-131-Firefighter-Type-1-1463-1/
CATEGORIES:Training
END:VEVENT
END:VCALENDAR