BEGIN:VCALENDAR
VERSION:2.0
PRODID:-//Washington Contract Firefighters Association - ECPv4.8.1//NONSGML v1.0//EN
CALSCALE:GREGORIAN
METHOD:PUBLISH
X-WR-CALNAME:Washington Contract Firefighters Association
X-ORIGINAL-URL:https://www.wcfafirefighters.org
X-WR-CALDESC:Events for Washington Contract Firefighters Association
BEGIN:VEVENT
DTSTART;TZID=America/Los_Angeles:20160522T080000
DTEND;TZID=America/Los_Angeles:20160522T220000
DTSTAMP:20260422T165219
CREATED:20160301T090000Z
LAST-MODIFIED:20161231T090000Z
UID:773-1463904000-1463954400@www.wcfafirefighters.org
SUMMARY:S-131/S-133 Firefighter I Training Cheney Public Library\, 610 1st Street
DESCRIPTION:Required training to advance to FF1. S-133 is also required for this level. S-133 class is scheduled following S-131 class the same day at the same location. Dinner break will be at a time decided by the class.Sign up for class!Location: Cheney Public Library\, 610 1st StreetClick here to pay for classesContact: Todd Graves \n
URL:https://www.wcfafirefighters.org/event/S-131-S-133-Firefighter-I-Training-614-1/
CATEGORIES:Training
END:VEVENT
END:VCALENDAR