BEGIN:VCALENDAR
VERSION:2.0
PRODID:-//Washington Contract Firefighters Association - ECPv4.8.1//NONSGML v1.0//EN
CALSCALE:GREGORIAN
METHOD:PUBLISH
X-WR-CALNAME:Washington Contract Firefighters Association
X-ORIGINAL-URL:https://www.wcfafirefighters.org
X-WR-CALDESC:Events for Washington Contract Firefighters Association
BEGIN:VEVENT
DTSTART;TZID=America/Los_Angeles:20160319T080000
DTEND;TZID=America/Los_Angeles:20160319T220000
DTSTAMP:20260422T124102
CREATED:20160305T090000Z
LAST-MODIFIED:20161231T090000Z
UID:849-1458374400-1458424800@www.wcfafirefighters.org
SUMMARY:S-131/S-133 Firefighter I Training WFS Building\, 3505 1/2 Fruitvale Blvd\, Yakima
DESCRIPTION:Advanced Firefighter FFT1 training.  The needed S-133 Look up/Look Down is also taught.  This is a long day with a break between classes.Sign up for class!Location: WFS Building\, 3505 1/2 Fruitvale Blvd\, YakimaClick here to pay for classesContact: Timothy Logozzo Sr. \n
URL:https://www.wcfafirefighters.org/event/S-131-S-133-Firefighter-I-Training-642-1/
CATEGORIES:Training
END:VEVENT
END:VCALENDAR