BEGIN:VCALENDAR
VERSION:2.0
PRODID:-//Washington Contract Firefighters Association - ECPv4.8.1//NONSGML v1.0//EN
CALSCALE:GREGORIAN
METHOD:PUBLISH
X-WR-CALNAME:Washington Contract Firefighters Association
X-ORIGINAL-URL:https://www.wcfafirefighters.org
X-WR-CALDESC:Events for Washington Contract Firefighters Association
BEGIN:VEVENT
DTSTART;TZID=America/Los_Angeles:20160625T080000
DTEND;TZID=America/Los_Angeles:20160625T210000
DTSTAMP:20260422T123430
CREATED:20160523T080000Z
LAST-MODIFIED:20161231T090000Z
UID:1184-1466841600-1466888400@www.wcfafirefighters.org
SUMMARY:S-131/S-133 Firefighter I Training Community Covenant Church\, 710 Hwy 20 N\, Twisp
DESCRIPTION:Enter Class Description HereSign up for class!Location: Community Covenant Church\, 710 Hwy 20 N\, TwispClick here to pay for classesContact: Charlie Curtis \n
URL:https://www.wcfafirefighters.org/event/S-131-S-133-Firefighter-I-Training-662-1/
CATEGORIES:Training
END:VEVENT
END:VCALENDAR