BEGIN:VCALENDAR
VERSION:2.0
PRODID:-//Washington Contract Firefighters Association - ECPv4.8.1//NONSGML v1.0//EN
CALSCALE:GREGORIAN
METHOD:PUBLISH
X-WR-CALNAME:Washington Contract Firefighters Association
X-ORIGINAL-URL:https://www.wcfafirefighters.org
X-WR-CALDESC:Events for Washington Contract Firefighters Association
BEGIN:VEVENT
DTSTART;TZID=America/Los_Angeles:20160604T180000
DTEND;TZID=America/Los_Angeles:20160604T220000
DTSTAMP:20260422T123125
CREATED:20160914T080000Z
LAST-MODIFIED:20161231T090000Z
UID:1197-1465063200-1465077600@www.wcfafirefighters.org
SUMMARY:S-133 Look Up\, Look Down\, Look Around Community Covenant Church\, 710 Hwy 20 N\, Twisp
DESCRIPTION:Look up\, Look Down\, Look around.  Required for FFT1 position qualification.Sign up for class!Location: Community Covenant Church\, 710 Hwy 20 N\, TwispClick here to pay for classesContact: Charlie Curtis \n
URL:https://www.wcfafirefighters.org/event/S-133-Look-Up-Look-Down-Look-Around-667-1/
CATEGORIES:Training
END:VEVENT
END:VCALENDAR