BEGIN:VCALENDAR
VERSION:2.0
PRODID:-//Washington Contract Firefighters Association - ECPv4.8.1//NONSGML v1.0//EN
CALSCALE:GREGORIAN
METHOD:PUBLISH
X-WR-CALNAME:Washington Contract Firefighters Association
X-ORIGINAL-URL:https://www.wcfafirefighters.org
X-WR-CALDESC:Events for Washington Contract Firefighters Association
BEGIN:VEVENT
DTSTART;TZID=America/Los_Angeles:20190621T160000
DTEND;TZID=America/Los_Angeles:20190621T200000
DTSTAMP:20260422T022226
CREATED:20190624T200103Z
LAST-MODIFIED:20200101T070104Z
UID:91011-1561132800-1561147200@www.wcfafirefighters.org
SUMMARY:S-133 Look Up\, Look Down\, Look Around Ontario\, OR
DESCRIPTION:S133 Look Up\, Look Down\, Look AroundSign up for class!Location: Ontario\, ORClick here to pay for classesInstructor: Kevin CurfmanContact Name : Danielle SimsContact Phone : 425-239-6613Contact Email : dsimswcfa@yahoo.com \n
URL:https://www.wcfafirefighters.org/event/S-133-Look-Up-Look-Down-Look-Around-925-1/
CATEGORIES:Training
END:VEVENT
END:VCALENDAR