BEGIN:VCALENDAR
VERSION:2.0
PRODID:-//Washington Contract Firefighters Association - ECPv4.8.1//NONSGML v1.0//EN
CALSCALE:GREGORIAN
METHOD:PUBLISH
X-WR-CALNAME:Washington Contract Firefighters Association
X-ORIGINAL-URL:https://www.wcfafirefighters.org
X-WR-CALDESC:Events for Washington Contract Firefighters Association
BEGIN:VEVENT
DTSTART;TZID=America/Los_Angeles:20180101T000000
DTEND;TZID=America/Los_Angeles:20180101T000000
DTSTAMP:20260422T052408
CREATED:20180606T011823Z
LAST-MODIFIED:20180606T011928Z
UID:90717-1514764800-1514764800@www.wcfafirefighters.org
SUMMARY:S-190 Introduction to Fire Behavior 
DESCRIPTION:Enter Class Description HereSign up for class!Location: Click here to pay for classesInstructor: James  HarterContact Name : Danielle SimsContact Phone : 425-239-6613Contact Email : dsimswcfa@yahoo.com \n
URL:https://www.wcfafirefighters.org/event/S-190-Introduction-to-Fire-Behavior-807-1/
CATEGORIES:Training
END:VEVENT
END:VCALENDAR