BEGIN:VCALENDAR
VERSION:2.0
PRODID:-//Washington Contract Firefighters Association - ECPv4.8.1//NONSGML v1.0//EN
CALSCALE:GREGORIAN
METHOD:PUBLISH
X-WR-CALNAME:Washington Contract Firefighters Association
X-ORIGINAL-URL:https://www.wcfafirefighters.org
X-WR-CALDESC:Events for Washington Contract Firefighters Association
BEGIN:VEVENT
DTSTART;TZID=America/Los_Angeles:20190613T080000
DTEND;TZID=America/Los_Angeles:20190613T170000
DTSTAMP:20260422T004415
CREATED:20190623T160104Z
LAST-MODIFIED:20200101T070104Z
UID:91010-1560412800-1560445200@www.wcfafirefighters.org
SUMMARY:S-190 Introduction to Fire Behavior Chelan FD\, St. 11\, 206 Easy Street\, Wenatchee\, WA.
DESCRIPTION:Introduction to Fire BehaviorSign up for class!Location: Chelan FD\, St. 11\, 206 Easy Street\, Wenatchee\, WA.Click here to pay for classesInstructor: Todd GravesContact Name : Danielle SimsContact Phone : 425-239-6613Contact Email : dsimswcfa@yahoo.com \n
URL:https://www.wcfafirefighters.org/event/S-190-Introduction-to-Fire-Behavior-924-1/
CATEGORIES:Training
END:VEVENT
END:VCALENDAR