BEGIN:VCALENDAR
VERSION:2.0
PRODID:-//Washington Contract Firefighters Association - ECPv4.8.1//NONSGML v1.0//EN
CALSCALE:GREGORIAN
METHOD:PUBLISH
X-WR-CALNAME:Washington Contract Firefighters Association
X-ORIGINAL-URL:https://www.wcfafirefighters.org
X-WR-CALDESC:Events for Washington Contract Firefighters Association
BEGIN:VEVENT
DTSTART;TZID=America/Los_Angeles:20260502T080000
DTEND;TZID=America/Los_Angeles:20260502T170000
DTSTAMP:20260422T114930
CREATED:20260219T140102Z
LAST-MODIFIED:20260301T231316Z
UID:92692-1777708800-1777741200@www.wcfafirefighters.org
SUMMARY:S-190\, S-130\, L-180 Basic Firefighter FFT2 with Field Day Wildfire Services - 3505 1/2 Fruitvale Blvd\, Yakima\, WA - Day 3 of 4
DESCRIPTION:Basic FFT2 wildland fire training. 4 day class. Last day is the field day. Items students will need to bring for field day are: gloves\, hardhat\, eye protection\, hearing protection\, long sleeve shirt\, long pants\, boots or hiking type boots\, lunch & water.Location: Wildfire Services – 3505 1/2 Fruitvale Blvd\, Yakima\, WAInstructor: Jason SareContact Name : Danielle SimsContact Phone : 425-239-6613Contact Email : dsimswcfa@gmail.comTo sign up for the class visit our TEQMET Training Database here.Return to our Website to pay for the class. \n
URL:https://www.wcfafirefighters.org/event/S-190-S-130-L-180-Basic-Firefighter-FFT2-with-Field-Day-1436-3/
CATEGORIES:Training
END:VEVENT
END:VCALENDAR