BEGIN:VCALENDAR
VERSION:2.0
PRODID:-//Washington Contract Firefighters Association - ECPv4.8.1//NONSGML v1.0//EN
CALSCALE:GREGORIAN
METHOD:PUBLISH
X-WR-CALNAME:Washington Contract Firefighters Association
X-ORIGINAL-URL:https://www.wcfafirefighters.org
X-WR-CALDESC:Events for Washington Contract Firefighters Association
BEGIN:VEVENT
DTSTART;TZID=America/Los_Angeles:20160403T080000
DTEND;TZID=America/Los_Angeles:20160403T170000
DTSTAMP:20260422T165153
CREATED:20160331T080000Z
LAST-MODIFIED:20161231T090000Z
UID:1126-1459670400-1459702800@www.wcfafirefighters.org
SUMMARY:S-212 Field Day Power Saws Field Day Dennison Shop\, 7717 184th Dr. SE\, Snohomish\, WA.
DESCRIPTION:Field Day portion only of the Power Saw Class.Sign up for class!Location: Dennison Shop\, 7717 184th Dr. SE\, Snohomish\, WA.Click here to pay for classesContact: Charlie Curtis \n
URL:https://www.wcfafirefighters.org/event/S-212-Field-Day-Power-Saws-Field-Day-653-1/
CATEGORIES:Training
END:VEVENT
END:VCALENDAR