BEGIN:VCALENDAR
VERSION:2.0
PRODID:-//Washington Contract Firefighters Association - ECPv4.8.1//NONSGML v1.0//EN
CALSCALE:GREGORIAN
METHOD:PUBLISH
X-WR-CALNAME:Washington Contract Firefighters Association
X-ORIGINAL-URL:https://www.wcfafirefighters.org
X-WR-CALDESC:Events for Washington Contract Firefighters Association
BEGIN:VEVENT
DTSTART;TZID=America/Los_Angeles:20240503T080000
DTEND;TZID=America/Los_Angeles:20240503T170000
DTSTAMP:20260422T223416
CREATED:20240310T110102Z
LAST-MODIFIED:20250101T070102Z
UID:92250-1714723200-1714755600@www.wcfafirefighters.org
SUMMARY:S-212 Power Saws Wildfire Services 3505 1/2 Fruitvale Blvd Yakima - Day 1 of 3
DESCRIPTION:This is a 3 day course. Deadline for sign-ups is March 8th to complete pre-course work. Bring leather boots\, chainsaw\, saw chaps\, gloves\, helmet\, eye protection and a warm coat. Full PPE REQUIRED. Pre-course work will be sent to employer of each student by the Training Coordinator 2 weeks prior to the class start date. Last day will be at a different location that the instructor will share at the class.Sign up for class!Location: Wildfire Services 3505 1/2 Fruitvale Blvd YakimaClick here to pay for classesInstructor: Greg BaileyContact Name : Danielle SimsContact Phone : 425-239-6613Contact Email : dsimswcfa@yahoo.com \n
URL:https://www.wcfafirefighters.org/event/S-212-Power-Saws-1286-1/
CATEGORIES:Training
END:VEVENT
END:VCALENDAR