BEGIN:VCALENDAR
VERSION:2.0
PRODID:-//Washington Contract Firefighters Association - ECPv4.8.1//NONSGML v1.0//EN
CALSCALE:GREGORIAN
METHOD:PUBLISH
X-WR-CALNAME:Washington Contract Firefighters Association
X-ORIGINAL-URL:https://www.wcfafirefighters.org
X-WR-CALDESC:Events for Washington Contract Firefighters Association
BEGIN:VEVENT
DTSTART;TZID=America/Los_Angeles:20250530T080000
DTEND;TZID=America/Los_Angeles:20250530T170000
DTSTAMP:20260423T050917
CREATED:20250309T110103Z
LAST-MODIFIED:20260101T070104Z
UID:92541-1748592000-1748624400@www.wcfafirefighters.org
SUMMARY:S-212 Power Saws Twisp Works - Bld N\,The Bernard Hosey Founders Bld - Day 1 of 3
DESCRIPTION:This is a 3 day course. Deadline for sign-ups is May 15th to complete pre-course work. Bring leather boots\, chainsaw\, saw chaps\, gloves\, helmet\, eye protection and a warm coat. Full PPE REQUIRED. Pre-course work will be sent to employer of each student by the Training Coordinator 2 weeks prior to the class start date. Last day will be at a different location that the instructor will share at the class.Sign up for class!Location: Twisp Works – Bld N\,The Bernard Hosey Founders BldClick here to pay for classesInstructor: Charlie CurtisContact Name : Danielle SimsContact Phone : 425-239-6613Contact Email : dsimswcfa@gmail.com \n
URL:https://www.wcfafirefighters.org/event/S-212-Power-Saws-1386-1/
CATEGORIES:Training
END:VEVENT
END:VCALENDAR