BEGIN:VCALENDAR
VERSION:2.0
PRODID:-//Washington Contract Firefighters Association - ECPv4.8.1//NONSGML v1.0//EN
CALSCALE:GREGORIAN
METHOD:PUBLISH
X-WR-CALNAME:Washington Contract Firefighters Association
X-ORIGINAL-URL:https://www.wcfafirefighters.org
X-WR-CALDESC:Events for Washington Contract Firefighters Association
BEGIN:VEVENT
DTSTART;TZID=America/Los_Angeles:20160521T080000
DTEND;TZID=America/Los_Angeles:20160521T170000
DTSTAMP:20260422T181450
CREATED:20160301T090000Z
LAST-MODIFIED:20161231T090000Z
UID:771-1463817600-1463850000@www.wcfafirefighters.org
SUMMARY:S-212 Power Saws Community Covenant Church\, 710 Hwy 20 N\, Twisp - Day 2 of 3
DESCRIPTION:Deadline for sign-ups is May 5th. **THIRD DAY OF CLASS AT RAINS TROUT FARM** Bring\,leather boots\, chainsaw\, saw chaps\, gloves\, helmet\,eye protection and a warm coat. Full PPE REQUIRED. For pre-course reading\, copy and paste this address into your browser – http://onlinetraining.nwcg.gov/node/194.  BRING A SACK LUNCH FOR ALL THREE DAYS.Sign up for class!Location: Community Covenant Church\, 710 Hwy 20 N\, TwispClick here to pay for classesContact: Charlie Curtis \n
URL:https://www.wcfafirefighters.org/event/S-212-Power-Saws-613-2/
CATEGORIES:Training
END:VEVENT
END:VCALENDAR