BEGIN:VCALENDAR
VERSION:2.0
PRODID:-//Washington Contract Firefighters Association - ECPv4.8.1//NONSGML v1.0//EN
CALSCALE:GREGORIAN
METHOD:PUBLISH
X-WR-CALNAME:Washington Contract Firefighters Association
X-ORIGINAL-URL:https://www.wcfafirefighters.org
X-WR-CALDESC:Events for Washington Contract Firefighters Association
BEGIN:VEVENT
DTSTART;TZID=America/Los_Angeles:20160522T080000
DTEND;TZID=America/Los_Angeles:20160522T170000
DTSTAMP:20260422T152553
CREATED:20160407T080000Z
LAST-MODIFIED:20161231T090000Z
UID:1136-1463904000-1463936400@www.wcfafirefighters.org
SUMMARY:S-212 Power Saws Rains Trout Farm\, 122 Squaw Creek Road\, Pateros
DESCRIPTION:Third day of S-212 Power Saws.  Field Day location listed above.  Bring\,leather boots\, chainsaw\, saw chaps\, gloves\, helmet\,eye protection and a warm coat. Full PPE REQUIRED and bring taskbook.  BRING A SACK LUNCH FOR ALL THREE DAYS.Sign up for class!Location: Rains Trout Farm\, 122 Squaw Creek Road\, PaterosClick here to pay for classesContact: Dave Rains \n
URL:https://www.wcfafirefighters.org/event/S-212-Power-Saws-654-1/
CATEGORIES:Training
END:VEVENT
END:VCALENDAR